BEGIN:VCALENDAR
VERSION:2.0
PRODID:-//ChamberMaster//Event Calendar 2.0//EN
METHOD:PUBLISH
X-PUBLISHED-TTL:P1H
REFRESH-INTERVAL:P1H
CALSCALE:GREGORIAN
BEGIN:VTIMEZONE
TZID:America/Los_Angeles
BEGIN:DAYLIGHT
RRULE:FREQ=YEARLY;BYMONTH=3;BYDAY=2SU
DTSTART:20070101T000000
TZOFFSETFROM:-0800
TZOFFSETTO:-0700
TZNAME:Pacific Daylight Time
END:DAYLIGHT
BEGIN:STANDARD
RRULE:FREQ=YEARLY;BYMONTH=11;BYDAY=1SU
DTSTART:20070101T000000
TZOFFSETFROM:-0700
TZOFFSETTO:-0800
TZNAME:Pacific Standard Time
END:STANDARD
END:VTIMEZONE
BEGIN:VEVENT
DTSTART;TZID=America/Los_Angeles:20261215T130000
DTEND;TZID=America/Los_Angeles:20261215T140000
X-MICROSOFT-CDO-ALLDAYEVENT:FALSE
SUMMARY:Build a Business Plan You’ll Actually Use (for 2027)
DESCRIPTION:A business plan shouldn’t sit on a shelf\; it should guide your decisions. In this hands-on session\, you’ll learn how to build a practical\, actionable plan to set your business up for success in 2027.\n\nYou’ll learn:\n\nThe key components of an effective business plan\nHow to set realistic goals and priorities\nA simple framework you can actually use and maintain
X-ALT-DESC;FMTTYPE=text/html:A business plan shouldn’t sit on a shelf\; it should guide your decisions. In this hands-on session\, you’ll learn how to build a practical\, actionable plan to set your business up for success in 2027.\n\nYou’ll learn:\n\nThe key components of an effective business plan\nHow to set realistic goals and priorities\nA simple framework you can actually use and maintain
LOCATION:1000 SE Regatta Dr. Oak Harbor 98277-3091
UID:e.1518.1444521
SEQUENCE:3
DTSTAMP:20260419T190922Z
URL:https://members.edcislandcounty.org/event-calendar/Details/build-a-business-plan-you-ll-actually-use-for-2027-1710897?sourceTypeId=Hub
END:VEVENT
END:VCALENDAR
