BEGIN:VCALENDAR
VERSION:2.0
PRODID:-//ChamberMaster//Event Calendar 2.0//EN
METHOD:PUBLISH
X-PUBLISHED-TTL:P1H
REFRESH-INTERVAL:P1H
CALSCALE:GREGORIAN
BEGIN:VTIMEZONE
TZID:America/Los_Angeles
BEGIN:DAYLIGHT
RRULE:FREQ=YEARLY;BYMONTH=3;BYDAY=2SU
DTSTART:20070101T000000
TZOFFSETFROM:-0800
TZOFFSETTO:-0700
TZNAME:Pacific Daylight Time
END:DAYLIGHT
BEGIN:STANDARD
RRULE:FREQ=YEARLY;BYMONTH=11;BYDAY=1SU
DTSTART:20070101T000000
TZOFFSETFROM:-0700
TZOFFSETTO:-0800
TZNAME:Pacific Standard Time
END:STANDARD
END:VTIMEZONE
BEGIN:VEVENT
DTSTART;TZID=America/Los_Angeles:20260826T130000
DTEND;TZID=America/Los_Angeles:20260826T140000
X-MICROSOFT-CDO-ALLDAYEVENT:FALSE
SUMMARY:Why Employees Resist Change (and How to Lead Through It)
DESCRIPTION:Change is constant\, but resistance doesn’t have to be. This session explores why employees push back on change and how leaders can guide teams through transitions more effectively.\n\nYou’ll learn:\n\nThe real reasons people resist change\nHow to communicate change more effectively\nPractical strategies to gain buy-in and reduce friction
X-ALT-DESC;FMTTYPE=text/html:Change is constant\, but resistance doesn’t have to be. This session explores why employees push back on change and how leaders can guide teams through transitions more effectively.\n\nYou’ll learn:\n\nThe real reasons people resist change\nHow to communicate change more effectively\nPractical strategies to gain buy-in and reduce friction
LOCATION:1000 SE Regatta Dr. Oak Harbor 98277-3091
UID:e.1518.1444513
SEQUENCE:3
DTSTAMP:20260419T190830Z
URL:https://members.edcislandcounty.org/event-calendar/Details/why-employees-resist-change-and-how-to-lead-through-it-1710889?sourceTypeId=Hub
END:VEVENT
END:VCALENDAR
